BEGIN:VCALENDAR
VERSION:2.0
PRODID:-//Canungra Area Golf Club - ECPv6.15.14//NONSGML v1.0//EN
CALSCALE:GREGORIAN
METHOD:PUBLISH
X-WR-CALNAME:Canungra Area Golf Club
X-ORIGINAL-URL:https://canungraareagolfclub.com.au
X-WR-CALDESC:Events for Canungra Area Golf Club
REFRESH-INTERVAL;VALUE=DURATION:PT1H
X-Robots-Tag:noindex
X-PUBLISHED-TTL:PT1H
BEGIN:VTIMEZONE
TZID:Australia/Brisbane
BEGIN:STANDARD
TZOFFSETFROM:+1000
TZOFFSETTO:+1000
TZNAME:AEST
DTSTART:20240101T000000
END:STANDARD
END:VTIMEZONE
BEGIN:VEVENT
DTSTART;TZID=Australia/Brisbane:20260111T080000
DTEND;TZID=Australia/Brisbane:20260111T170000
DTSTAMP:20260420T005258
CREATED:20260111T053456Z
LAST-MODIFIED:20260111T053456Z
UID:591-1768118400-1768150800@canungraareagolfclub.com.au
SUMMARY:X Cup Challenge & Shoot Out
DESCRIPTION:Friday X Cup flyer
URL:https://canungraareagolfclub.com.au/event/x-cup-challenge-shoot-out/
END:VEVENT
BEGIN:VEVENT
DTSTART;VALUE=DATE:20250427
DTEND;VALUE=DATE:20250428
DTSTAMP:20260420T005258
CREATED:20250329T055336Z
LAST-MODIFIED:20250329T055336Z
UID:555-1745712000-1745798399@canungraareagolfclub.com.au
SUMMARY:CANUNGRA OPEN 2025
DESCRIPTION:OPen Day flyer 2025
URL:https://canungraareagolfclub.com.au/event/canungra-open-2025/
LOCATION:Cunungra Area Golf Club\, Alloah Road\, Witheren\, Queensland\, 4275\, Australia
ORGANIZER;CN="Canungra Area Golf Club":MAILTO:canungragolf@gmail.com
END:VEVENT
END:VCALENDAR